Workbook

Sheet BankRec
A1: Strensall with Towthorpe Parish Council
A3: Bank Reconciliation as at 31 March 2024
A5: Balance b/f 01 April 2023 | G5: 198664.12
A7: Add receipts | G7: =Receipts!E6 -> 81540.66
G9: =G5+G7 -> 280204.78
A11: Less payments | G11: =Payments!F7 -> 71603.71
A13: Balance c/f 31 March 2024 | G13: =G9-G11 -> 208601.07
A17: Balance at bank and in hand: | F17: A/c No
A19: Treasurers | D19: 91057.42 | F19: 11104098
A20: Contingency | D20: 64709.18 | F20: 93981827
A21: Premium | D21: 19638.23 | F21: 22422018
A22: Cemetery | D22: 8226.24 | F22: 03839958
A23: Premium Bonds | D23: 10000 | F23: 30712310
A24: Contingency Bonds | D24: 15000 | F24: 90712515
D25: =SUM(D19:D24) -> 208631.07
A27: Unpresented items:
A29: Ref | B29: Amount
A32: 201009 | D32: 30
B35: =SUM(B30:B34) -> 0 | D35: =SUM(D30:D34) -> 30 | G35: =D25+B35-D35 -> 208601.07 | I35: =G13-G35 -> 0
A40: Made Up of:
A42: Ring-fenced Funds: | C42: Cowslip Bridge | E42: 14000
C43: Neighbourhood Plan | E43: 0 | F43: =SUM(E42:E43) -> 14000
A45: Ear-Marked Funds: | C45: Tree Works | E45: =15000-Payments!AH7 -> 10484
C46: Grants | E46: =Grants!J23 -> 5491.64
C47: Play Area Maintenance | E47: =15000-Payments!AF7 -> 14666 | F47: =SUM(E45:E47) -> 30641.64
A49: General Reserve: | F49: =G35-F43-F47 -> 163959.43
A53: Good Practice = Precept x up to 2 = | D53: ='Inc&Exp'!F10*2 -> 108000 | F53: =F49-D53 -> 55959.43
A56: Note 1 | B56: Defibrillator donation paid into Cemetery A/c by mistake, so moved by bank transfer to Treasurer A/c

Sheet Receipts
A1: Strensall with Towthorpe P C | T1: Inc&Exp | U1: ='Inc&Exp'!F19+Q6 -> 81540.66
T2: S/b Zero | U2: =U1-E6 -> 0
A3: RECEIPTS 2023-2024
O4: Cost
A5: Date | B5: Description | C5: Account | D5: Reference | E5: Amount | G5: Interest | H5: Allotments | I5: Cemetery | J5: Precept | K5: DT | L5: S106 | M5: Ward | N5: VAT | O5: Repaid | P5: Misc | Q5: Transfers
E6: =SUM(E7:E2501) -> 81540.66 | G6: =SUM(G7:G1030) -> 2427.96 | H6: =SUM(H7:H1030) -> 387.5 | I6: =SUM(I7:I1029) -> 5042.5 | J6: =SUM(J7:J1029) -> 54000 | K6: =SUM(K7:K1029) -> 12590.25 | L6: =SUM(L7:L1029) -> 0 | M6: =SUM(M7:M1029) -> 0 | N6: =SUM(N7:N1029) -> 4433.55 | O6: =SUM(O7:O1029) -> 934 | P6: =SUM(P7:P1029) -> 1724.9 | Q6: =SUM(Q7:Q1029) -> 0 | R6: =E6-G6-H6-I6-J6-K6-L6-M6-N6-P6-Q6 -> 934
A7: 45033 | B7: Gross Interest | C7: Contingency | D7: CR | E7: 69.14 | G7: 69.14 | R7: =E7-G7-H7-I7-J7-K7-L7-M7-N7-P7-Q7 -> 0
A8: 45063 | B8: Gross Interest | C8: Contingency | D8: CR | E8: 72.24 | G8: 72.24 | R8: =E8-G8-H8-I8-J8-K8-L8-M8-N8-P8-Q8 -> 0
A9: 45094 | B9: Gross Interest | C9: Contingency | D9: CR | E9: 77.6 | G9: 77.6 | R9: =E9-G9-H9-I9-J9-K9-L9-M9-N9-P9-Q9 -> 0
A10: 45100 | B10: Gross Interest | C10: Contingency | D10: CR | E10: 119.47 | G10: 119.47 | R10: =E10-G10-H10-I10-J10-K10-L10-M10-N10-P10-Q10 -> 0
A11: 45124 | B11: Gross Interest | C11: Contingency | D11: CR | E11: 80.8 | G11: 80.8 | R11: =E11-G11-H11-I11-J11-K11-L11-M11-N11-P11-Q11 -> 0
A12: 45155 | B12: Gross Interest | C12: Contingency | D12: CR | E12: 93.91 | G12: 93.91 | R12: =E12-G12-H12-I12-J12-K12-L12-M12-N12-P12-Q12 -> 0
A13: 45186 | B13: Gross Interest | C13: Contingency | D13: CR | E13: 100.37 | G13: 100.37 | R13: =E13-G13-H13-I13-J13-K13-L13-M13-N13-P13-Q13 -> 0
A14: 45192 | B14: Gross Interest | C14: Contingency | D14: CR | E14: 151.43 | G14: 151.43 | R14: =E14-G14-H14-I14-J14-K14-L14-M14-N14-P14-Q14 -> 0
A15: 45216 | B15: Gross Interest | C15: Contingency | D15: CR | E15: 101.26 | G15: 101.26 | R15: =E15-G15-H15-I15-J15-K15-L15-M15-N15-P15-Q15 -> 0
A16: 45247 | B16: Gross Interest | C16: Contingency | D16: CR | E16: 105.09 | G16: 105.09 | R16: =E16-G16-H16-I16-J16-K16-L16-M16-N16-P16-Q16 -> 0
A17: 45277 | B17: Gross Interest | C17: Contingency | D17: CR | E17: 102.02 | G17: 102.02 | R17: =E17-G17-H17-I17-J17-K17-L17-M17-N17-P17-Q17 -> 0
A18: 45283 | B18: Gross Interest | C18: Contingency | D18: CR | E18: 159.76 | G18: 159.76 | R18: =E18-G18-H18-I18-J18-K18-L18-M18-N18-P18-Q18 -> 0
... A38: 45382 | B38: Gross Interest | C38: Premium | D38: CR | E38: 32.14 | G38: 32.14 | R38: =E38-G38-H38-I38-J38-K38-L38-M38-N38-P38-Q38 -> 0
A39: 45040 | B39: Wilson - Plot D42 | C39: Cemetery | D39: CR | E39: 375 | I39: 375 | R39: =E39-G39-H39-I39-J39-K39-L39-M39-N39-P39-Q39 -> 0
A40: 45068 | B40: Penrose - Headstone - 220 | C40: Cemetery | D40: CR | E40: 95 | I40: 95 | R40: =E40-G40-H40-I40-J40-K40-L40-M40-N40-P40-Q40 -> 0
A41: 45083 | B41: Chapman - 221 | C41: Cemetery | D41: CR | E41: 187.5 | I41: 187.5 | R41: =E41-G41-H41-I41-J41-K41-L41-M41-N41-P41-Q41 -> 0
A42: 45083 | B42: Robson - 219 | C42: Cemetery | D42: CR | E42: 30 | I42: 30 | R42: =E42-G42-H42-I42-J42-K42-L42-M42-N42-P42-Q42 -> 0
A43: 45103 | B43: Chapman - Headstone - 221 | C43: Cemetery | D43: CR | E43: 122.5 | I43: 122.5 | R43: =E43-G43-H43-I43-J43-K43-L43-M43-N43-P43-Q43 -> 0
A44: 45189 | B44: Trimble - 222 | C44: Cemetery | D44: CR | E44: 172.5 | I44: 172.5 | R44: =E44-G44-H44-I44-J44-K44-L44-M44-N44-P44-Q44 -> 0
A45: 45189 | B45: Robson - 217 | C45: Cemetery | D45: CR | E45: 160 | I45: 160 | R45: =E45-G45-H45-I45-J45-K45-L45-M45-N45-P45-Q45 -> 0
A46: 44935 | B46: Hammond - 223 | C46: Cemetery | D46: CR | E46: 412.5 | I46: 412.5 | R46: =E46-G46-H46-I46-J46-K46-L46-M46-N46-P46-Q46 -> 0
A47: 45233 | B47: Barrett - 224 | C47: Cemetery | D47: CR | E47: 187.5 | I47: 187.5 | R47: =E47-G47-H47-I47-J47-K47-L47-M47-N47-P47-Q47 -> 0
A48: 45280 | B48: Collins - 225 | C48: Cemetery | D48: CR | E48: 172.5 | I48: 172.5 | R48: =E48-G48-H48-I48-J48-K48-L48-M48-N48-P48-Q48 -> 0
A49: 44936 | B49: Tippet - 226 | C49: Cemetery | D49: CR | E49: 187.5 | I49: 187.5 | R49: =E49-G49-H49-I49-J49-K49-L49-M49-N49-P49-Q49 -> 0
A50: 45323 | B50: Plant - 227 | C50: Cemetery | D50: CR | E50: 172.5 | I50: 172.5 | R50: =E50-G50-H50-I50-J50-K50-L50-M50-N50-P50-Q50 -> 0
... A56: 45378 | B56: Ives - 230 | C56: Cemetery | D56: CR | E56: 652.5 | I56: 652.5 | R56: =E56-G56-H56-I56-J56-K56-L56-M56-N56-P56-Q56 -> 0
A57: 45044 | B57: City of York Council - Precept | C57: Treasurers | D57: - | E57: 27000 | J57: 27000 | R57: =E57-G57-H57-I57-J57-K57-L57-M57-N57-P57-Q57 -> 0
A58: 45050 | B58: HMRC - VAT | C58: Treasurers | D58: - | E58: 377.43 | N58: 377.43 | R58: =E58-G58-H58-I58-J58-K58-L58-M58-N58-P58-Q58-O58 -> 0
A59: 45066 | B59: Allotment Rent | C59: Treasurers | D59: - | E59: 20 | H59: 20 | R59: =E59-G59-H59-I59-J59-K59-L59-M59-N59-P59-Q59-O59 -> 0
A60: 45086 | B60: YLCA - Refund of overpayment | C60: Treasurers | D60: - | E60: 934 | O60: 934 | R60: =E60-G60-H60-I60-J60-K60-L60-M60-N60-P60-Q60-O60 -> 0
A61: 45175 | B61: Allotment Rent | C61: Treasurers | D61: - | E61: 10 | H61: 10 | R61: =E61-G61-H61-I61-J61-K61-L61-M61-N61-P61-Q61-O61 -> 0
A62: 45189 | B62: Strensall Village Hall - Hedge Cutting Part Payment | C62: Treasurers | D62: - | E62: 150 | P62: 150 | R62: =E62-G62-H62-I62-J62-K62-L62-M62-N62-P62-Q62-O62 -> 0
A63: 45198 | B63: City of York Council - Precept | C63: Treasurers | D63: - | E63: 27000 | J63: 27000 | R63: =E63-G63-H63-I63-J63-K63-L63-M63-N63-P63-Q63-O63 -> 0
A64: 45223 | B64: HMRC - VAT | C64: Treasurers | D64: - | E64: 1016.52 | N64: 1016.52 | R64: =E64-G64-H64-I64-J64-K64-L64-M64-N64-P64-Q64-O64 -> 0
...

Sheet Payments
A1: Strensall with Towthorpe P C | AX1: Inc&Exp | AY1: ='Inc&Exp'!F62+Payments!AR7 -> 71603.71
AX2: S/b Zero | AY2: =AY1-F7 -> 0
A3: PAYMENTS 2023-2024
A5: Date | B5: Payee | C5: Description | D5: Account | E5: Reference | F5: Amount | G5: Code 100 | H5: Code 101 | I5: Code 102 | J5: Code 103 | K5: Code 104 | L5: Code 105 | M5: Code 106 | N5: Code 107 | O5: Code 108 | P5: Code 109 | Q5: Code 110 | R5: Code 111 | S5: Code 113 | T5: Code 114 | U5: Code 201 | V5: Code 202 | W5: Code 203 | X5: Code 204 | Y5: Code 205 | Z5: Code 301 | AA5: Code 302 | AB5: Code 303 | AC5: Code 304 | AD5: Code 305 | AE5: Code 306 | AF5: Code 307 | AG5: Code 308 | AH5: Code 309 | AI5: Code 401 | AJ5: Code 402 | AK5: Code 403 | AL5: Code 404 | AM5: Code 405 | AN5: Code 406 | AO5: Code 408 | AP5: Code 409 | AQ5: Code 410 | AT5: S106 | AU5: S137 | AV5: VAT | AW5: =F7-AW6 -> 0 | AX5: VAT RTN
G6: Salary | H6: Telephone | I6: Office Exp | J6: Clerks Exp | K6: Cllr Exp | L6: Audit | M6: Insur | N6: Bank | O6: VH Hire | P6: Brit Legion | Q6: Training | R6: Leases | S6: HMRC | T6: NP | U6: YLCA | V6: CPRE | W6: Outreach | X6: River Foss | Y6: ICO | Z6: Defib | AA6: Grass | AB6: XmasTrees | AC6: Floral Displays | AD6: Grants/Donations | AE6: OpenSpace | AF6: Play | AG6: WarMemorial | AH6: Trees | AI6: Litter Bins | AJ6: Dog Bins | AK6: Noticeboards | AL6: Seats/Benches | AM6: Salt/Bins | AN6: BusShelters | AO6: Speedwatch | AP6: Grants | AQ6: Cemetery | AR6: Transfers | AW6: =SUM(G7:AV7) -> 71603.71 | AX6: =AV7-AX7 -> 0
F7: =SUM(F8:F975) -> 71603.71 | G7: =SUM(G8:G981) -> 13657.1 | H7: =SUM(H8:H981) -> 690.45 | I7: =SUM(I8:I981) -> 613.33 | J7: =SUM(J8:J981) -> 0 | K7: =SUM(K8:K981) -> 0 | L7: =SUM(L8:L981) -> 565 | M7: =SUM(M8:M981) -> 2900.86 | N7: =SUM(N8:N981) -> 128.8 | ... AU7: =SUM(AU8:AU981) -> 0 | AV7: =SUM(AV8:AV1000) -> 7455.77 | AW7: =SUM(AW8:AW2369) -> 0 | AX7: =SUM(AX8:AX1000) -> 7455.77
A8: 45033 | B8: City of York Council | C8: Annual Waste Collection | D8: Cemetery | E8: C1 | F8: 29.77 | AQ8: 29.77 | AW8: =F8-G8-H8-I8-J8-K8-L8-M8-N8-O8-P8-Q8-R8-S8-T8-U8-V8-W8-X8-Y8-Z8-AA8-AB8-AC8-AD8-AE8-AF8-AG8-AH8-AI8-AJ8-AK8-AL8-AM8-AN8-AO8-AP8-AQ8-AR8-AS8-AT8-AU8-AV8 -> 0
A9: 45037 | B9: HSBC | C9: Total Charges | D9: Cemetery | E9: - | F9: 5.8 | N9: 5.8 | AW9: =F9-G9-H9-I9-J9-K9-L9-M9-N9-O9-P9-Q9-R9-S9-T9-U9-V9-W9-X9-Y9-Z9-AA9-AB9-AC9-AD9-AE9-AF9-AG9-AH9-AI9-AJ9-AK9-AL9-AM9-AN9-AO9-AP9-AQ9-AR9-AS9-AT9-AU9-AV9 -> 0
A10: 45067 | B10: HSBC | C10: Total Charges | D10: Cemetery | E10: - | F10: 5 | N10: 5 | AW10: =F10-G10-H10-I10-J10-K10-L10-M10-N10-O10-P10-Q10-R10-S10-T10-U10-V10-W10-X10-Y10-Z10-AA10-AB10-AC10-AD10-AE10-AF10-AG10-AH10-AI10-AJ10-AK10-AL10-AM10-AN10-AO10-AP10-AQ10-AR10-AS10-AT10-AU10-AV10 -> 0
A11: 45098 | B11: HSBC | C11: Total Charges | D11: Cemetery | E11: - | F11: 5.8 | N11: 5.8 | AW11: =F11-G11-H11-I11-J11-K11-L11-M11-N11-O11-P11-Q11-R11-S11-T11-U11-V11-W11-X11-Y11-Z11-AA11-AB11-AC11-AD11-AE11-AF11-AG11-AH11-AI11-AJ11-AK11-AL11-AM11-AN11-AO11-AP11-AQ11-AR11-AS11-AT11-AU11-AV11 -> 0
A12: 45106 | B12: Scottish Water | C12: Water Rates | D12: Cemetery | E12: C2 | F12: 15.45 | AQ12: 15.45 | AW12: =F12-G12-H12-I12-J12-K12-L12-M12-N12-O12-P12-Q12-R12-S12-T12-U12-V12-W12-X12-Y12-Z12-AA12-AB12-AC12-AD12-AE12-AF12-AG12-AH12-AI12-AJ12-AK12-AL12-AM12-AN12-AO12-AP12-AQ12-AR12-AS12-AT12-AU12-AV12 -> 0 | AX12: =SUM(AV8:AV12) -> 0
A13: 45128 | B13: HSBC | C13: Total Charges | D13: Cemetery | E13: - | F13: 6.6 | N13: 6.6 | AW13: =F13-G13-H13-I13-J13-K13-L13-M13-N13-O13-P13-Q13-R13-S13-T13-U13-V13-W13-X13-Y13-Z13-AA13-AB13-AC13-AD13-AE13-AF13-AG13-AH13-AI13-AJ13-AK13-AL13-AM13-AN13-AO13-AP13-AQ13-AR13-AS13-AT13-AU13-AV13 -> 0
A14: 45159 | B14: HSBC | C14: Total Charges | D14: Cemetery | E14: - | F14: 5 | N14: 5 | AW14: =F14-G14-H14-I14-J14-K14-L14-M14-N14-O14-P14-Q14-R14-S14-T14-U14-V14-W14-X14-Y14-Z14-AA14-AB14-AC14-AD14-AE14-AF14-AG14-AH14-AI14-AJ14-AK14-AL14-AM14-AN14-AO14-AP14-AQ14-AR14-AS14-AT14-AU14-AV14 -> 0
A15: 45189 | B15: Stoneplan | C15: Footpath repairs | D15: Cemetery | E15: C3 | F15: 2274 | AQ15: 1895 | AV15: 379 | AW15: =F15-G15-H15-I15-J15-K15-L15-M15-N15-O15-P15-Q15-R15-S15-T15-U15-V15-W15-X15-Y15-Z15-AA15-AB15-AC15-AD15-AE15-AF15-AG15-AH15-AI15-AJ15-AK15-AL15-AM15-AN15-AO15-AP15-AQ15-AR15-AS15-AT15-AU15-AV15 -> 0
A16: 45190 | B16: HSBC | C16: Total Charges | D16: Cemetery | E16: - | F16: 5 | N16: 5 | AW16: =F16-G16-H16-I16-J16-K16-L16-M16-N16-O16-P16-Q16-R16-S16-T16-U16-V16-W16-X16-Y16-Z16-AA16-AB16-AC16-AD16-AE16-AF16-AG16-AH16-AI16-AJ16-AK16-AL16-AM16-AN16-AO16-AP16-AQ16-AR16-AS16-AT16-AU16-AV16 -> 0
A17: 45197 | B17: Business Stream | C17: Water Rates | D17: Cemetery | E17: C4 | F17: 17.02 | AQ17: 17.02 | AW17: =F17-G17-H17-I17-J17-K17-L17-M17-N17-O17-P17-Q17-R17-S17-T17-U17-V17-W17-X17-Y17-Z17-AA17-AB17-AC17-AD17-AE17-AF17-AG17-AH17-AI17-AJ17-AK17-AL17-AM17-AN17-AO17-AP17-AQ17-AR17-AS17-AT17-AU17-AV17 -> 0 | AX17: =SUM(AV13:AV17) -> 379
A18: 45215 | B18: CYC | C18: Annual Waste Collection | D18: Cemetery | E18: C5 | F18: 29.77 | AQ18: 29.77 | AW18: =F18-G18-H18-I18-J18-K18-L18-M18-N18-O18-P18-Q18-R18-S18-T18-U18-V18-W18-X18-Y18-Z18-AA18-AB18-AC18-AD18-AE18-AF18-AG18-AH18-AI18-AJ18-AK18-AL18-AM18-AN18-AO18-AP18-AQ18-AR18-AS18-AT18-AU18-AV18 -> 0
A19: 45220 | B19: HSBC | C19: Total Charges | D19: Cemetery | E19: - | F19: 6.6 | N19: 6.6 | AW19: =F19-G19-H19-I19-J19-K19-L19-M19-N19-O19-P19-Q19-R19-S19-T19-U19-V19-W19-X19-Y19-Z19-AA19-AB19-AC19-AD19-AE19-AF19-AG19-AH19-AI19-AJ19-AK19-AL19-AM19-AN19-AO19-AP19-AQ19-AR19-AS19-AT19-AU19-AV19 -> 0
A20: 45222 | B20: CYC | C20: Annual Waste Collection | D20: Cemetery | E20: C5 | F20: 29.77 | AQ20: 29.77 | AW20: =F20-G20-H20-I20-J20-K20-L20-M20-N20-O20-P20-Q20-R20-S20-T20-U20-V20-W20-X20-Y20-Z20-AA20-AB20-AC20-AD20-AE20-AF20-AG20-AH20-AI20-AJ20-AK20-AL20-AM20-AN20-AO20-AP20-AQ20-AR20-AS20-AT20-AU20-AV20 -> 0
A21: 45251 | B21: HSBC | C21: Total Charges | D21: Cemetery | E21: - | F21: 5 | N21: 5 | AW21: =F21-G21-H21-I21-J21-K21-L21-M21-N21-O21-P21-Q21-R21-S21-T21-U21-V21-W21-X21-Y21-Z21-AA21-AB21-AC21-AD21-AE21-AF21-AG21-AH21-AI21-AJ21-AK21-AL21-AM21-AN21-AO21-AP21-AQ21-AR21-AS21-AT21-AU21-AV21 -> 0
A22: 45266 | B22: Kendall | C22: Charges Refund | D22: Cemetery | E22: C6 | F22: 200 | AQ22: 200 | AW22: =F22-G22-H22-I22-J22-K22-L22-M22-N22-O22-P22-Q22-R22-S22-T22-U22-V22-W22-X22-Y22-Z22-AA22-AB22-AC22-AD22-AE22-AF22-AG22-AH22-AI22-AJ22-AK22-AL22-AM22-AN22-AO22-AP22-AQ22-AR22-AS22-AT22-AU22-AV22 -> 0
A23: 45280 | B23: HSBC | C23: Total Charges | D23: Cemetery | E23: - | F23: 5.8 | N23: 5.8 | AW23: =F23-G23-H23-I23-J23-K23-L23-M23-N23-O23-P23-Q23-R23-S23-T23-U23-V23-W23-X23-Y23-Z23-AA23-AB23-AC23-AD23-AE23-AF23-AG23-AH23-AI23-AJ23-AK23-AL23-AM23-AN23-AO23-AP23-AQ23-AR23-AS23-AT23-AU23-AV23 -> 0 | AX23: =SUM(AV18:AV23) -> 0
A24: 45293 | B24: Business Stream | C24: Water Rates | D24: Cemetery | E24: C7 | F24: 16.85 | AQ24: 16.85 | AW24: =F24-G24-H24-I24-J24-K24-L24-M24-N24-O24-P24-Q24-R24-S24-T24-U24-V24-W24-X24-Y24-Z24-AA24-AB24-AC24-AD24-AE24-AF24-AG24-AH24-AI24-AJ24-AK24-AL24-AM24-AN24-AO24-AP24-AQ24-AR24-AS24-AT24-AU24-AV24 -> 0
A25: 45299 | B25: Wickes | C25: Planter Etc | D25: Cemetery | E25: C8 | F25: 51 | AQ25: 42.5 | AV25: 8.5 | AW25: =F25-G25-H25-I25-J25-K25-L25-M25-N25-O25-P25-Q25-R25-S25-T25-U25-V25-W25-X25-Y25-Z25-AA25-AB25-AC25-AD25-AE25-AF25-AG25-AH25-AI25-AJ25-AK25-AL25-AM25-AN25-AO25-AP25-AQ25-AR25-AS25-AT25-AU25-AV25 -> 0
A26: 45312 | B26: HSBC | C26: Total Charges | D26: Cemetery | E26: - | F26: 6.2 | N26: 6.2 | AW26: =F26-G26-H26-I26-J26-K26-L26-M26-N26-O26-P26-Q26-R26-S26-T26-U26-V26-W26-X26-Y26-Z26-AA26-AB26-AC26-AD26-AE26-AF26-AG26-AH26-AI26-AJ26-AK26-AL26-AM26-AN26-AO26-AP26-AQ26-AR26-AS26-AT26-AU26-AV26 -> 0
A27: 45343 | B27: HSBC | C27: Total Charges | D27: Cemetery | E27: - | F27: 5 | N27: 5 | AW27: =F27-G27-H27-I27-J27-K27-L27-M27-N27-O27-P27-Q27-R27-S27-T27-U27-V27-W27-X27-Y27-Z27-AA27-AB27-AC27-AD27-AE27-AF27-AG27-AH27-AI27-AJ27-AK27-AL27-AM27-AN27-AO27-AP27-AQ27-AR27-AS27-AT27-AU27-AV27 -> 0
A28: 45372 | B28: HSBC | C28: Total Charges | D28: Cemetery | E28: - | F28: 5.8 | N28: 5.8 | AW28: =F28-G28-H28-I28-J28-K28-L28-M28-N28-O28-P28-Q28-R28-S28-T28-U28-V28-W28-X28-Y28-Z28-AA28-AB28-AC28-AD28-AE28-AF28-AG28-AH28-AI28-AJ28-AK28-AL28-AM28-AN28-AO28-AP28-AQ28-AR28-AS28-AT28-AU28-AV28 -> 0
A29: 45373 | B29: Kilbridge | C29: Grave Digger | D29: Cemetery | E29: - | F29: 100 | AQ29: 100 | AW29: =F29-G29-H29-I29-J29-K29-L29-M29-N29-O29-P29-Q29-R29-S29-T29-U29-V29-W29-X29-Y29-Z29-AA29-AB29-AC29-AD29-AE29-AF29-AG29-AH29-AI29-AJ29-AK29-AL29-AM29-AN29-AO29-AP29-AQ29-AR29-AS29-AT29-AU29-AV29 -> 0
A30: 45379 | B30: Business Stream | C30: Water Rates | D30: Cemetery | E30: C9 | F30: 16.85 | AQ30: 16.85 | AW30: =F30-G30-H30-I30-J30-K30-L30-M30-N30-O30-P30-Q30-R30-S30-T30-U30-V30-W30-X30-Y30-Z30-AA30-AB30-AC30-AD30-AE30-AF30-AG30-AH30-AI30-AJ30-AK30-AL30-AM30-AN30-AO30-AP30-AQ30-AR30-AS30-AT30-AU30-AV30 -> 0 | AX30: =SUM(AV24:AV30) -> 8.5
A31: 45022 | B31: Parish Clerk | C31: Salary | D31: Treasurers | E31: Payroll | F31: 732.13 | G31: 732.13 | AW31: =F31-G31-H31-I31-J31-K31-L31-M31-N31-O31-P31-Q31-R31-S31-T31-U31-V31-W31-X31-Y31-Z31-AA31-AB31-AC31-AD31-AE31-AF31-AG31-AH31-AI31-AJ31-AK31-AL31-AM31-AN31-AO31-AP31-AQ31-AR31-AS31-AT31-AU31-AV31 -> 0
A32: 45037 | B32: O2 | C32: Mobile | D32: Treasurers | E32: 1 | F32: 15.48 | H32: 12.9 | AV32: 2.58 | AW32: =F32-G32-H32-I32-J32-K32-L32-M32-N32-O32-P32-Q32-R32-S32-T32-U32-V32-W32-X32-Y32-Z32-AA32-AB32-AC32-AD32-AE32-AF32-AG32-AH32-AI32-AJ32-AK32-AL32-AM32-AN32-AO32-AP32-AQ32-AR32-AS32-AT32-AU32-AV32 -> 0
A33: 45037 | B33: HSBC | C33: Charges | D33: Treasurers | E33: - | F33: 5 | N33: 5 | AW33: =F33-G33-H33-I33-J33-K33-L33-M33-N33-O33-P33-Q33-R33-S33-T33-U33-V33-W33-X33-Y33-Z33-AA33-AB33-AC33-AD33-AE33-AF33-AG33-AH33-AI33-AJ33-AK33-AL33-AM33-AN33-AO33-AP33-AQ33-AR33-AS33-AT33-AU33-AV33 -> 0
A34: 45040 | B34: City of York Council | C34: Overpayment | D34: Treasurers | E34: 2 | F34: 29.77 | AQ34: 29.77 | AW34: =F34-G34-H34-I34-J34-K34-L34-M34-N34-O34-P34-Q34-R34-S34-T34-U34-V34-W34-X34-Y34-Z34-AA34-AB34-AC34-AD34-AE34-AF34-AG34-AH34-AI34-AJ34-AK34-AL34-AM34-AN34-AO34-AP34-AQ34-AR34-AS34-AT34-AU34-AV34 -> 0
A35: 45040 | B35: Community Heartbeat | C35: Annual Support Cost | D35: Treasurers | E35: 3 | F35: 151.2 | Z35: 126 | AV35: 25.2 | AW35: =F35-G35-H35-I35-J35-K35-L35-M35-N35-O35-P35-Q35-R35-S35-T35-U35-V35-W35-X35-Y35-Z35-AA35-AB35-AC35-AD35-AE35-AF35-AG35-AH35-AI35-AJ35-AK35-AL35-AM35-AN35-AO35-AP35-AQ35-AR35-AS35-AT35-AU35-AV35 -> 0
A36: 45040 | B36: YLCA | C36: Subscription | D36: Treasurers | E36: 4 | F36: 934 | U36: 934 | AW36: =F36-G36-H36-I36-J36-K36-L36-M36-N36-O36-P36-Q36-R36-S36-T36-U36-V36-W36-X36-Y36-Z36-AA36-AB36-AC36-AD36-AE36-AF36-AG36-AH36-AI36-AJ36-AK36-AL36-AM36-AN36-AO36-AP36-AQ36-AR36-AS36-AT36-AU36-AV36 -> 0
A37: 45049 | B37: BT | C37: Landline/Broadband | D37: Treasurers | E37: 5 | F37: 147.78 | H37: 123.15 | AV37: 24.63 | AW37: =F37-G37-H37-I37-J37-K37-L37-M37-N37-O37-P37-Q37-R37-S37-T37-U37-V37-W37-X37-Y37-Z37-AA37-AB37-AC37-AD37-AE37-AF37-AG37-AH37-AI37-AJ37-AK37-AL37-AM37-AN37-AO37-AP37-AQ37-AR37-AS37-AT37-AU37-AV37 -> 0
A38: 45051 | B38: Marmax | C38: Bench | D38: Treasurers | E38: 6 | F38: 576 | AL38: 480 | AV38: 96 | AW38: =F38-G38-H38-I38-J38-K38-L38-M38-N38-O38-P38-Q38-R38-S38-T38-U38-V38-W38-X38-Y38-Z38-AA38-AB38-AC38-AD38-AE38-AF38-AG38-AH38-AI38-AJ38-AK38-AL38-AM38-AN38-AO38-AP38-AQ38-AR38-AS38-AT38-AU38-AV38 -> 0
A39: 45055 | B39: Parish Clerk | C39: Salary | D39: Treasurers | E39: Payroll | F39: 732.13 | G39: 732.13 | AW39: =F39-G39-H39-I39-J39-K39-L39-M39-N39-O39-P39-Q39-R39-S39-T39-U39-V39-W39-X39-Y39-Z39-AA39-AB39-AC39-AD39-AE39-AF39-AG39-AH39-AI39-AJ39-AK39-AL39-AM39-AN39-AO39-AP39-AQ39-AR39-AS39-AT39-AU39-AV39 -> 0
A40: 45061 | B40: YLCA | C40: Subscription | D40: Treasurers | E40: 4 | F40: 934 | U40: 934 | AW40: =F40-G40-H40-I40-J40-K40-L40-M40-N40-O40-P40-Q40-R40-S40-T40-U40-V40-W40-X40-Y40-Z40-AA40-AB40-AC40-AD40-AE40-AF40-AG40-AH40-AI40-AJ40-AK40-AL40-AM40-AN40-AO40-AP40-AQ40-AR40-AS40-AT40-AU40-AV40 -> 0
A41: 45061 | B41: Ruth Prins | C41: Internal Audit | D41: Treasurers | E41: 7 | F41: 125 | L41: 125 | AW41: =F41-G41-H41-I41-J41-K41-L41-M41-N41-O41-P41-Q41-R41-S41-T41-U41-V41-W41-X41-Y41-Z41-AA41-AB41-AC41-AD41-AE41-AF41-AG41-AH41-AI41-AJ41-AK41-AL41-AM41-AN41-AO41-AP41-AQ41-AR41-AS41-AT41-AU41-AV41 -> 0
...

Sheet Inc&Exp
A1: Strensall with Towthorpe Parish Council
A3: Income and Expenditure Account Year Ending 31 March 2023
J4: Draft
A5: Actual | F5: Actual | J5: Draft
A6: 2022-2023 | F6: To Date | H6: Budget | J6: Budget
F7: 2023-2024 | H7: 2023-2024 | J7: 2024-2025
C9: Income
A10: 53000 | C10: Precept | F10: =Receipts!J6 -> 54000 | H10: 54000 | J10: 54000 | L10: No Increase?
C11: Section 106
A12: 7995.41 | C12: Double Taxation | F12: =Receipts!K6 -> 12590.25
A13: 3700 | C13: Ward Funding
A14: 738.33 | C14: Interest | F14: =Receipts!G6 -> 2427.96
A15: 367.5 | C15: Allotment Rents | F15: =Receipts!H6 -> 387.5
A16: 805.02 | C16: Cemetery | F16: =Receipts!I6 -> 5042.5
A17: 7831.78 | C17: VAT Refunds | F17: =Receipts!N6 -> 4433.55
A18: 2058.57 | C18: Miscellaneous | F18: =Receipts!O6+Receipts!P62+Receipts!P84+Receipts!P90+Receipts!P91 -> 2658.9
A19: =SUM(A10:A18) -> 76496.61 | C19: Total Income | F19: =SUM(F10:F18) -> 81540.66 | H19: =SUM(H9:H18) -> 54000 | J19: =SUM(J10:J18) -> 54000
C21: Expenditure
A22: 13622.88 | C22: Clerks Salary | D22: Code 100 | F22: =Payments!G7 -> 13657.1 | H22: 13000 | J22: 13250 | L22: NALC Pay Scales Increase
A23: 671.62 | C23: Telephone/Broadband | D23: Code 101 | F23: =Payments!H7 -> 690.45 | H23: 600 | J23: 600 | L23: Three Year Contract Agreed
A24: 644.47 | C24: Office expenses | D24: Code 102 | F24: =Payments!I7 -> 613.33 | H24: 500 | J24: 500 | L24: -
C25: Clerks expenses | D25: Code 103
A26: 23.32 | C26: Councillors expenses | D26: Code 104 | H26: 50 | J26: 50 | L26: -
A27: 550 | C27: Audit | D27: Code 105 | F27: =Payments!L7 -> 565 | H27: 1000 | J27: 1000
A28: 2575.91 | C28: Insurance | D28: Code 106 | F28: =Payments!F106 -> 2900.86 | H28: 2750 | J28: 3000 | L28: Claims History
A29: 129.6 | C29: Bank fees | D29: Code 107 | F29: =Payments!N7 -> 128.8 | H29: 150 | J29: 150
A30: 2264 | C30: Village Hall hire | D30: Code 108 | F30: =Payments!O7 -> 1345 | H30: 2500 | J30: 2500
C31: Royal British Legion | D31: Code 109 | H31: 50 | J31: 50 | L31: Payment Missed 2022!
A32: 22.5 | C32: Training fees | D32: Code 110 | H32: 100 | J32: 100
A33: 80 | C33: Leases | D33: Code 111 | F33: =Payments!R7 -> 70 | H33: 100 | J33: 100
C34: Computer/Projection | D34: Code 113 | J34: 1500 | L34: Ringfence unspent towards replacements
A35: 7797.64 | C35: NP | D35: Code 114 | F35: =Payments!T7 -> 14350.97 | H35: 10000 | J35: 0
A36: 919 | C36: YLCA | D36: Code 201 | F36: =Payments!U7 -> 1868 | H36: 950 | J36: 1000 | L36: Paid Twice/Refund in income!
A37: 36 | C37: CPRE | D37: Code 202 | H37: 40 | J37: 40
C38: Outreach | D38: Code 203
A39: 28 | C39: River Foss | D39: Code 204 | F39: =Payments!X7 -> 33 | H39: 30 | J39: 30
C40: ICO | D40: Code 205 | F40: =Payments!Y7 -> 35 | H40: 35 | J40: 35
A41: 1921 | C41: Defibrillator | D41: Code 301 | F41: =Payments!Z7 -> 1590.9 | H41: 150 | J41: 150 | L41: Ringfence unspent towards replacements
A42: 7601 | C42: Grass Cutting | D42: Code 302 | F42: =Payments!AA7 -> 12330 | H42: 12000 | J42: 15000 | L42: Extras
C43: Christmas Trees | D43: Code 303
...

Sheet Payroll
A1: Year | B1: Date | C1: Month | D1: Employee | E1: Eers NIC | F1: Gross | G1: PAYE | H1: Ees NIC | I1: Net | K1: Clerk | L1: Paid | O1: Due | P1: HMRC | Q1: Paid
A2: 2017/18 | B2: 42826 | C2: 1 | D2: Nunn S | E2: 26.36 | F2: 871.03 | G2: 93.6 | H2: 0 | I2: =F2-G2-H2 -> 777.43 | K2: 777.43 | L2: 42845 | M2: =I2-K2 -> 0
A3: 2017/18 | B3: 42856 | C3: 2 | D3: Nunn S | E3: 26.36 | F3: 871.03 | G3: 99.6 | H3: 0 | I3: =F3-G3-H3 -> 771.43 | K3: 777.43 | L3: 42877 | M3: =I3-K3 -> -6
A4: 2017/18 | B4: 42887 | C4: 3 | D4: Nunn S | E4: 26.36 | F4: 871.03 | G4: 99.6 | H4: 0 | I4: =F4-G4-H4 -> 771.43 | K4: 771.43 | L4: 42906 | M4: =I4-K4 -> 0 | O4: =E2+E3+E4+G2+G3+G4 -> 371.88 | P4: 371.88 | Q4: 201258
A5: 2017/18 | B5: 42917 | C5: 4 | D5: Nunn S | E5: 26.36 | F5: 871.03 | G5: 99.6 | H5: 0 | I5: =F5-G5-H5 -> 771.43 | K5: 771.43 | L5: 42936 | M5: =I5-K5 -> 0
A6: 2017/18 | B6: 42948 | C6: 5 | D6: Nunn S | E6: 26.36 | F6: 871.03 | G6: 99.6 | H6: 0 | I6: =F6-G6-H6 -> 771.43 | K6: 771.43 | L6: 42968 | M6: =I6-K6 -> 0
A7: 2017/18 | B7: 42979 | C7: 6 | D7: Nunn S | E7: 26.36 | F7: 871.03 | G7: 99.6 | H7: 0 | I7: =F7-G7-H7 -> 771.43 | K7: 771.43 | L7: 42998 | M7: =I7-K7 -> 0 | O7: =E5+E6+E7+G5+G6+G7 -> 377.88 | P7: 377.88 | Q7: 201280
A8: 2017/18 | B8: 43009 | C8: 7 | D8: Nunn S | E8: 26.36 | F8: 871.03 | G8: 99.6 | H8: 0 | I8: =F8-G8-H8 -> 771.43 | K8: 771.43 | L8: 43028 | M8: =I8-K8 -> 0
A9: 2017/18 | B9: 43040 | C9: 8 | D9: Nunn S | E9: 47.17 | F9: 1021.8 | G9: 129.8 | H9: 0 | I9: =F9-G9-H9 -> 892 | K9: 771.43 | L9: 43059 | M9: =I9-K9 -> 120.57
A10: 2017/18 | B10: 43070 | C10: 9 | D10: Nunn S | E10: 26.36 | F10: 871.03 | G10: 99.6 | H10: 0 | I10: =F10-G10-H10 -> 771.43 | K10: 771.43 | L10: 43089 | M10: =I10-K10 -> 0 | O10: =E8+E9+E10+G8+G9+G10 -> 428.89 | P10: 428.89 | Q10: 201314
A11: 2017/18 | B11: 43101 | C11: 10 | D11: Nunn S | F11: 339.22 | G11: 0 | H11: 0 | I11: =F11-G11-H11 -> 339.22 | K11: 339.22 | L11: 201321 | M11: =I11-K11 -> 0
A12: 2017/18 | B12: 43101 | C12: 10 | D12: Hill F | E12: 22.52 | F12: 843.23 | G12: 168.6 | H12: 19.59 | I12: =F12-G12-H12 -> 655.04 | K12: 655.04 | L12: 43125 | M12: =I12-K12 -> 0
A13: 2017/18 | B13: 43132 | C13: 11 | D13: Nunn S | F13: 1812.5 | G13: 288 | H13: 0 | I13: =F13-G13-H13 -> 1524.5 | K13: 1524.5 | L13: 201340 | M13: =I13-K13 -> 0
A14: 2017/18 | B14: 43132 | C14: 11 | D14: Hill F | E14: 178.8 | F14: 843.23 | G14: 168.6 | H14: 19.59 | I14: =F14-G14-H14 -> 655.04 | K14: 655.04 | L14: 43157 | M14: =I14-K14 -> 0
A15: 2017/18 | B15: 43160 | C15: 12 | D15: Hill F | F15: 843.23 | G15: 168.6 | H15: 19.59 | I15: =F15-G15-H15 -> 655.04 | K15: 655.04 | L15: 43185 | M15: =I15-K15 -> 0 | O15: 1053.89 | P15: 1053.89 | Q15: 201359
E16: =SUM(E2:E15) -> 459.37 | F16: =SUM(F2:F15) -> 12671.45 | G16: =SUM(G2:G15) -> 1714.4 | H16: =SUM(H2:H15) -> 58.77 | I16: =SUM(I2:I15) -> 10898.28 | K16: =SUM(K2:K15) -> 10783.71 | M16: =SUM(M2:M15) -> 114.57 | O16: =SUM(O2:O15) -> 2232.54 | P16: =SUM(P2:P15) -> 2232.54
G17: =E16+G16+H16 -> 2232.54 | K17: =I16-K16 -> 114.57 | M17: =K17-M16 -> -3.4106051e-13 | O17: =G17-O16 -> 0 | P17: =O16-P16 -> 0
K18: Paid
K19: Cheque
K20: 201298
A24: Year | B24: Date | C24: Month | D24: Employee | E24: Eers NIC | F24: Gross | G24: PAYE | H24: Ees NIC | I24: Net | K24: Clerk | L24: Paid | O24: Due | P24: HMRC | Q24: Paid | S24: 43398 | T24: 655.04
A25: 2018/19 | B25: 43191 | C25: 1 | D25: Hill F | E25: 19.49 | F25: 843.23 | G25: 168.6 | H25: 16.95 | I25: =F25-G25-H25 -> 657.68 | K25: 655.04 | L25: 43215 | M25: =I25-K25 -> 2.64 | S25: 43399 | T25: 175.57
A26: 2018/19 | B26: 43221 | C26: 2 | D26: Hill F | E26: 19.49 | F26: 843.23 | G26: 168.6 | H26: 16.95 | I26: =F26-G26-H26 -> 657.68 | K26: 655.04 | L26: 43245 | M26: =I26-K26 -> 2.64 | T26: =SUM(T24:T25) -> 830.61
A27: 2018/19 | B27: 43252 | C27: 3 | D27: Hill F | E27: 19.49 | F27: 843.23 | G27: 168.6 | H27: 16.95 | I27: =F27-G27-H27 -> 657.68 | K27: 655.04 | L27: 43276 | M27: =I27-K27 -> 2.64 | O27: =E25+G25+H25+E26+G26+H26+E27+G27+H27 -> 615.12 | P27: 581.4 | Q27: 43332
A28: 2018/19 | B28: 43282 | C28: 4 | D28: Hill F | E28: 23.33 | F28: 871.1 | G28: 174.2 | H28: 20.29 | I28: =F28-G28-H28 -> 676.61 | K28: 655.04 | L28: 43306 | M28: =I28-K28 -> 21.57 | S28: 43490 | T28: 655.04
A29: 2018/19 | B29: 43313 | C29: 5 | D29: Hill F | E29: 23.33 | F29: 871.1 | G29: 174.2 | H29: 20.29 | I29: =F29-G29-H29 -> 676.61 | K29: 655.04 | L29: 43340 | M29: =I29-K29 -> 21.57 | S29: 43493 | T29: 1
A30: 2018/19 | B30: 43344 | C30: 6 | D30: Hill F | E30: 23.33 | F30: 871.1 | G30: 174.2 | H30: 20.29 | I30: =F30-G30-H30 -> 676.61 | K30: 655.04 | L30: 43368 | M30: =I30-K30 -> 21.57 | O30: =E28+G28+H28+E29+G29+H29+E30+G30+H30 -> 653.46 | P30: =O27+O30-P27 -> 687.18 | Q30: 43502 | S30: 43516 | T30: 99.37
A31: 2018/19 | B31: 43374 | C31: 7 | D31: Hill F | E31: 39.89 | F31: 991.07 | G31: 198.4 | H31: 34.69 | I31: =F31-G31-H31 -> 757.98 | K31: =T26 -> 830.61 | L31: See Notes | M31: =I31-K31 -> -72.63 | T31: =SUM(T28:T30) -> 755.41
A32: 2018/19 | B32: 43405 | C32: 8 | D32: Hill F | E32: 25.74 | F32: 888.51 | G32: 177.6 | H32: 22.38 | I32: =F32-G32-H32 -> 688.53 | K32: 655.04 | L32: 43430 | M32: =I32-K32 -> 33.49
A33: 2018/19 | B33: 43435 | C33: 9 | D33: Hill F | E33: 25.74 | F33: 888.51 | G33: 177.8 | H33: 22.38 | I33: =F33-G33-H33 -> 688.33 | K33: 655.04 | L33: 43461 | M33: =I33-K33 -> 33.29 | O33: =E31+G31+H31+E32+G32+H32+E33+G33+H33 -> 724.62 | S33: Parish Clerk Paid Post YE
A34: 2018/19 | B34: 43466 | C34: 10 | D34: Hill F | E34: 25.74 | F34: 888.51 | G34: 177.6 | H34: 22.38 | I34: =F34-G34-H34 -> 688.53 | K34: =T31 -> 755.41 | L34: See Notes | M34: =I34-K34 -> -66.88
A35: 2018/19 | B35: 43497 | C35: 10 | D35: Hill F | E35: 25.74 | F35: 888.51 | G35: 177.8 | H35: 22.38 | I35: =F35-G35-H35 -> 688.33 | K35: 655.04 | L35: 43521 | M35: =I35-K35 -> 33.29 | S35: HMRC Paid Post YE
A36: 2018/19 | B36: 43525 | C36: 11 | D36: Hill F | E36: 25.74 | F36: 888.51 | G36: 177.6 | H36: 22.38 | I36: =F36-G36-H36 -> 688.53 | K36: 655.04 | L36: 43549 | M36: =I36-K36 -> 33.49 | O36: =E34+G34+H34+E35+G35+H35+E36+G36+H36 -> 677.36
E37: =SUM(E25:E36) -> 297.05 | F37: =SUM(F25:F36) -> 10576.61 | G37: =SUM(G25:G36) -> 2115.2 | H37: =SUM(H25:H36) -> 258.31 | I37: =SUM(I25:I36) -> 8203.1 | K37: =SUM(K25:K36) -> 8136.42 | M37: =SUM(M25:M36) -> 66.68 | O37: =SUM(O25:O36) -> 2670.56 | P37: =SUM(P25:P36) -> 1268.58 | Q37: =O37-P37 -> 1401.98
G38: =E37+G37+H37 -> 2670.56 | Q38: Paid 05Jun19
B41: Date | C41: Month | D41: Employee | E41: Eers NIC | F41: Gross | G41: PAYE | H41: Ees NIC | I41: Net | K41: Clerk | L41: Paid | O41: Due | P41: HMRC | Q41: Paid
A42: 2019/20 | B42: 43556 | C42: 1 | D42: Hill F | E42: 26.6 | F42: 911.73 | G42: 182.2 | H42: 23.13 | I42: =F42-G42-H42 -> 706.4 | K42: 655.04 | L42: 43580 | M42: =I42-K42 -> 51.36 | O42: =E42+G42+H42 -> 231.93
A43: 2019/20 | B43: 43586 | C43: 2 | D43: Hill F | E43: 26.6 | F43: 911.73 | G43: 182.4 | H43: 23.13 | I43: =F43-G43-H43 -> 706.2 | K43: 655.04 | L43: 43613 | M43: =I43-K43 -> 51.16 | O43: =E43+G43+H43 -> 232.13
A44: 2019/20 | K44: 102.52 | L44: 39969 | M44: =I44-K44 -> -102.52 | O44: =E44+G44+H44 -> 0
A45: 2019/20 | B45: 43617 | C45: 3 | D45: Hill F | E45: 26.6 | F45: 911.73 | G45: 182.4 | H45: 23.13 | I45: =F45-G45-H45 -> 706.2 | K45: 706.2 | L45: 43641 | M45: =I45-K45 -> 0 | O45: =E45+G45+H45 -> 232.13
...

Sheet VAT
A1: Vat Return | B1: Cemetery | C1: Current | D1: Total | F1: Refunded
A3: Apr23-Jun23 | B3: =Payments!AX12 -> 0 | C3: =Payments!AX56 -> 1016.52 | D3: =SUM(B3:C3) -> 1016.52 | F3: 1016.52 | G3: 45223
A5: Jul23-Sep23 | B5: =Payments!AX17 -> 379 | C5: =Payments!AX89 -> 1504.31 | D5: =SUM(B5:C5) -> 1883.31 | F5: 1883.31 | G5: 45239
A7: Oct23-Dec23 | B7: =Payments!AX23 -> 0 | C7: =Payments!AX116 -> 1156.29 | D7: =SUM(B7:C7) -> 1156.29 | F7: =Receipts!N87 -> 1156.29 | G7: 45324
A9: Jan24-Mar24 | B9: =Payments!AX30 -> 8.5 | C9: =Payments!AX144 -> 3391.15 | D9: =SUM(B9:C9) -> 3399.65 | F9: 3399.65 | G9: To Reclaim Apr24
A10: .
B11: =SUM(B3:B10) -> 387.5 | C11: =SUM(C3:C10) -> 7068.27 | D11: =SUM(D3:D9) -> 7455.77 | F11: =SUM(F3:F10) -> 7455.77
A13: Total Repayments VAT | D13: =Receipts!N6 -> 4433.55
A14: This Year | D14: =Receipts!N64+Receipts!N65+Receipts!N87 -> 4056.12
A15: Previous Year | D15: =Receipts!N58 -> 377.43
D16: =D13-D14-D15 -> 0
A18: This Year | D18: =D11 -> 7455.77
A19: Repaid | D19: =F11 -> 7455.77
A20: To Reclaim | D20: 0
D21: =D18-D19-D20 -> 0

Sheet Grants
B1: YE2018 | C1: YE2019 | D1: YE2020 | E1: YE2021 | F1: YE2022 | G1: YE2023 | H1: YE2024 | J1: YE2025 | L1: Note 1 - Minutes 10Oct23
L2: Note 2 - Minutes 14Nov23
A3: B/F | B3: 0 | C3: =B23 -> 2107 | D3: =C23 -> 4782.2 | E3: =D23 -> 6314.2 | F3: =E23 -> 5514.2 | G3: =F23 -> 5036.58 | H3: =G23 -> 3707.94 | J3: =H23 -> 2491.64
A5: Budget | B5: 5000 | C5: 5000 | D5: 5000 | G5: 2200 | H5: 0 | J5: 5000
A6: Budget - Carnival | E6: 1200 | F6: 1200
A7: Budget - Outreach
A8: Budget - Other
A9: Grant - Strensall Community Events Committee | F9: 1000
B10: =SUM(B5:B9) -> 5000 | C10: =SUM(C5:C9) -> 5000 | D10: =SUM(D5:D9) -> 5000 | E10: =SUM(E5:E9) -> 1200 | F10: =SUM(F5:F9) -> 2200 | G10: =SUM(G5:G9) -> 2200 | H10: =SUM(H5:H9) -> 0 | J10: =SUM(J5:J9) -> 5000
A12: Kidz Klub | B12: 1000 | C12: 1000 | D12: =1000-332 -> 668
A13: Library | B13: 525 | C13: 324
A14: Outreach | B14: 400 | D14: 1100
A15: Carnival | B15: 968 | C15: 1000.8 | D15: 1200 | G15: 1200 | H15: 316.3 | J15: 2000 | K15: Note 2
A16: Christmas Together | H16: 900 | I16: Note 1
A17: Grant - Strensall Community Events Committee | F17: 677.62 | G17: 828.64
A18: Churchyard | D18: 500 | G18: 1500
A19: Tennis Club | E19: 2000
A20: SCYSA | F20: 2000
B21: =SUM(B12:B20) -> 2893 | C21: =SUM(C12:C20) -> 2324.8 | D21: =SUM(D12:D20) -> 3468 | E21: =SUM(E12:E20) -> 2000 | F21: =SUM(F12:F20) -> 2677.62 | G21: =SUM(G12:G20) -> 3528.64 | H21: =SUM(H12:H20) -> 1216.3 | J21: =SUM(J12:J20) -> 2000
A23: C/F | B23: =B3+B5-B21 -> 2107 | C23: =C3+C5-C21 -> 4782.2 | D23: =D3+D5-D21 -> 6314.2 | E23: =E3+E10-E21 -> 5514.2 | F23: =F3+F10-F21 -> 5036.58 | G23: =G3+G10-G21 -> 3707.94 | H23: =H3+H10-H21 -> 2491.64 | J23: =J3+J10-J21 -> 5491.64

Sheet DT
A1: Question 1 - Describe | B1: Detail what cost is | K1: 13 | L1: 1200 | AN1: 1650
K2: 17 | L2: 1330 | AN2: 1300
A3: Question 2 - Net Cost | B3: See budget | K3: 28 | L3: 1360 | AN3: 144
K4: 35 | L4: 1410 | AN4: 380
A5: Question 3 - Equivalent | B5: CYC strategy | K5: 39 | L5: 1410 | AN5: 144
K6: 44 | L6: 300 | AN6: 898
A7: Question 4 - CYC Policy | B7: ?! | K7: 48 | L7: 1440
D8: DT Claim | G8: DT Claim | K8: 53 | L8: 1280
A9: Expenditure | C9: Budget | D9: No | E9: Yes | G9: Budget | H9: Yes | K9: 54 | L9: 200
A10: Clerks Salary | B10: Code 100 | C10: 12000 | D10: 12000 | G10: 12250 | K10: Grass Cutting | L10: =SUM(L1:L9) -> 9930
A11: Telephone/Broadband | B11: Code 101 | C11: 750 | D11: 750 | G11: 750
A12: Office expenses | B12: Code 102 | C12: 1200 | D12: 1200 | G12: 500
A13: Clerks expenses | B13: Code 103 | C13: 50 | D13: 50 | K13: 14 | L13: 1650
A14: Councillors expenses | B14: Code 104 | C14: 50 | D14: 50 | G14: 50 | K14: 18 | L14: 1300
A15: Audit | B15: Code 105 | C15: 1000 | D15: 1000 | G15: 500 | K15: 25 | L15: 144
A16: Insurance | B16: Code 106 | C16: 1900 | D16: 1900 | G16: 2576 | K16: 40 | L16: 380
A17: Bank fees | B17: Code 107 | C17: 20 | D17: 20 | G17: 150 | K17: 41 | L17: 144
A18: Village Hall hire | B18: Code 108 | C18: 2050 | D18: 2050 | G18: 2050 | K18: 50 | L18: 898
A19: Royal British Legion | B19: Code 109 | C19: 50 | D19: 50 | G19: 50 | K19: Tree Works | L19: =SUM(L13:L18) -> 4516
A20: Training fees | B20: Code 110 | C20: 1000 | D20: 1000 | G20: 22.5
A21: Leases | B21: Code 111 | C21: 100 | D21: 100 | G21: 100
A22: HMRC | B22: Code 113 | C22: 0 | D22: 0 | K22: Insurance -57 | L22: 2900.86
A23: NP | B23: Code 114 | C23: 0 | D23: 0 | G23: 2450
A24: YLCA | B24: Code 201 | C24: 900 | D24: 900 | G24: 920
A25: CPRE | B25: Code 202 | C25: 40 | D25: 40 | G25: 40 | K25: 30 | L25: 1541.8
A26: Outreach | B26: Code 203 | C26: 1100 | D26: 1100 | K26: 56 | L26: 275
A27: River Foss | B27: Code 204 | C27: 20 | D27: 20 | G27: 30 | K27: War Memorial | L27: =SUM(L25:L26) -> 1816.8
A28: ICO | B28: Code 205 | C28: 40 | D28: 40 | G28: 35
A29: Defibrillator | B29: Code 301 | C29: 100 | D29: 100 | G29: 150
A30: Grass Cutting | B30: Code 302 | C30: 7500 | E30: 7500 | G30: 10000 | H30: 10000 | K30: 8 | L30: 100
A31: Christmas Trees | B31: Code 303 | C31: 5000 | D31: 5000 | K31: 42 | L31: 234
A32: Floral Displays | B32: Code 304 | C32: 2000 | D32: 2000 | K32: Play Areas | L32: =SUM(L30:L31) -> 334
A33: Carnival | B33: Code 305 | C33: 1200 | D33: 1200
A34: Open Spaces | B34: Code 306 | C34: 2000 | E34: 2000 | G34: 3000 | H34: 3000
A35: Play Equipment | B35: Code 307 | C35: 5000 | E35: 5000 | G35: 3000 | H35: 3000 | K35: Open Spaces - 36 | L35: 300
A36: War Memorial | B36: Code 308 | C36: 0 | D36: 0 | G36: 500
A37: Tree Work | B37: Code 309 | C37: 5000 | E37: 5000 | G37: 5000 | H37: 5000 | L37: =L10+L19+L22+L27+L32+L35 -> 19797.66
A38: Litter Bins | B38: Code 401 | C38: 0 | D38: 0
A39: Dog Bins | B39: Code 402 | C39: 0 | D39: 0
A40: Notice Boards | B40: Code 403 | C40: 250 | D40: 250
...

Sheet Grass Cutting 
A1: Estimate | B1: 12200 | C1: Plus VAT | J1: Estimate | K1: 12200 | L1: Plus VAT
A3: Month | B3: Invoice | C3: Ref | D3: Basic | E3: Collecting | F3: Southfields | J3: Month | K3: Invoice | L3: Ref | M3: Basic | N3: Collecting | O3: Southfields
A4: 44927 | B4: - | C4: - | E4: - | F4: - | J4: 45292 | P4: =SUM(M4:O4) -> 0
A5: 44958 | B5: - | C5: - | E5: - | F5: - | J5: 45323 | K5: 18941 | M5: 2600 | P5: =SUM(M5:O5) -> 2600
A6: 44986 | B6: - | C6: - | E6: - | F6: - | J6: 45352 | P6: =SUM(M6:O6) -> 0
A7: 45017 | B7: 18323 | C7: 13 | D7: 1200 | E7: - | F7: - | G7: =SUM(D7:F7) -> 1200 | J7: 45383 | P7: =SUM(M7:O7) -> 0
A8: 45047 | B8: 18384 | C8: 17 | D8: 1200 | E8: 80 | F8: 50 | G8: =SUM(D8:F8) -> 1330 | J8: 45413 | P8: =SUM(M8:O8) -> 0
A9: 45078 | B9: 18434 | C9: 28 | D9: 1200 | E9: 160 | G9: =SUM(D9:F9) -> 1360 | J9: 45444 | P9: =SUM(M9:O9) -> 0
A10: 45108 | B10: 18534 | C10: 35 | D10: 1200 | E10: 160 | F10: 50 | G10: =SUM(D10:F10) -> 1410 | J10: 45474 | P10: =SUM(M10:O10) -> 0
A11: 45139 | B11: 18599 | C11: 39 | D11: 1200 | E11: 160 | F11: 50 | G11: =SUM(D11:F11) -> 1410 | J11: 45505 | P11: =SUM(M11:O11) -> 0
A12: 45170 | B12: 18681 | C12: 48 | D12: 1200 | E12: 160 | F12: 80 | G12: =SUM(D12:F12) -> 1440 | J12: 45536 | P12: =SUM(M12:O12) -> 0
A13: 45200 | B13: 18755 | C13: 53 | D13: 1200 | E13: 80 | F13: 0 | G13: =SUM(D13:F13) -> 1280 | J13: 45566 | P13: =SUM(M13:O13) -> 0
A14: 45231 | B14: 18812 | C14: 59 | D14: 1200 | E14: 0 | F14: 0 | G14: =SUM(D14:F14) -> 1200 | J14: 45597 | P14: =SUM(M14:O14) -> 0
A15: 45261 | B15: 18860 | C15: 73 | D15: 1200 | E15: 0 | F15: 0 | G15: =SUM(D15:F15) -> 1200 | J15: 45627 | P15: =SUM(M15:O15) -> 0
D16: =SUM(D7:D15) -> 10800 | E16: =SUM(E7:E15) -> 800 | F16: =SUM(F7:F15) -> 230 | G16: =SUM(G7:G15) -> 11830 | M16: =SUM(M4:M15) -> 2600 | N16: =SUM(N4:N15) -> 0 | O16: =SUM(O4:O15) -> 0 | P16: =SUM(P4:P15) -> 2600
C18: To Invoice | D18: =B1-D16 -> 1400 | G18: =Payments!AA7 -> 12330 | H18: Total Paid | L18: To Invoice | M18: =K1-M16 -> 9600 | P18: =Payments!AJ7 -> 0 | Q18: Total Paid
G19: -500 | H19: Kirklands
G20: 0 | H20: To Pay | P20: 2600 | Q20: To Pay
G21: =SUM(G18:G20) -> 11830 | P21: =SUM(P18:P20) -> 2600
